Workbook

Sheet ВВ 
A3: Тариф акционный "Сезонное предложение" на услуги временного проживания с питанием завтрак на 2026 год | G3: Акционный тариф
G4: Период проживания с 28.09.2026 до 29.12.2026
A5: 28.09.2026-29.12.2026 | G5: Период бронирования до 29.12.2026
C6: БУДНИ ВС-ЧТ | E6: ВЫХОДНЫЕ ПТ-СБ | G6: При бронировании необходимо внести 100% оплату.
A7: Категория номера | C7: 1 гость | D7: 2 гостя | E7: 1 гость | F7: 2 гостя | G7: В стоимость тарифа включено:
G8: Проживание с питанием завтрак по системе "шведский стол".
A9: СИНГЛ | C9: 8000 | E9: 8000 | G9: Бесплатные услуги:
A10: Дабл+ | B10: 15100 | C10: 9100 | D10: 10100 | E10: 10800 | F10: 11800 | G10: Первичный прием терапевта (педиатра)
A11: Твин | B11: 16200 | C11: 10250 | D11: 11250 | E11: 11500 | F11: 12500 | G11: Кислородный коктейль
A12: СТУДИО | B12: 17300 | C12: 11000 | D12: 12000 | E12: 13400 | F12: 14400 | G12: Пользование открытым и крытым бассейнами (крытый бассейн с морской водой)
A13: СТУДИО НЬЮ | B13: 17300 | C13: 11000 | D13: 12000 | E13: 13400 | F13: 14400 | G13: Посещение банного комплекса (4 вида бань и джакузи)
A14: ДЕЛЮКС НЬЮ | B14: 17300 | C14: 11000 | D14: 12000 | E14: 13400 | F14: 14400 | G14: Групповая тренировка по теннису для взрослых: суббота (по предварительной записи)
A15: СЬЮТ2 | B15: 19600 | C15: 13500 | D15: 14500 | E15: 15000 | F15: 16000 | G15: Групповая тренировка по теннису для детей: пятница, суббота (по предварительной записи)
A16: СЬЮТ 2 НЬЮ | B16: 20600 | C16: 15000 | D16: 16000 | E16: 17500 | F16: 18500 | G16: Тренировки с тренером: йога, скандинавская ходьба, фитнес-йога, аквазумба, аквааэробика,
A17: СЕНЬЙОР СЬЮТ | B17: 20600 | C17: 15000 | D17: 16000 | E17: 17500 | F17: 18500 | G17: функциональная тренировка, кардио, пилатес, дыхательная гимнастика (по расписанию)
A18: СЬЮТ 3 | B18: 25000 | C18: 19900 | D18: 20900 | E18: 21000 | F18: 22000 | G18: Анимационная программа для детей и взрослых
A19: СЬЮТ 3НЬЮ | B19: 30600 | C19: 21900 | D19: 22900 | E19: 22500 | F19: 23500 | G19: Тренажерный и спортивный залы
A20: Экзикьютив СЬЮТ | B20: 30600 | C20: 21900 | D20: 22900 | E20: 22500 | F20: 23500 | G20: Настольный теннис
A21: ФЕМЕЛИ СЬЮТ | B21: 30600 | C21: 21900 | D21: 22900 | E21: 22500 | F21: 23500 | G21: Детский клуб для детей от 3 до 11 лет
G22: Подростковый клуб
G23: Детская площадка
A24: Стоимость дополнительных мест | G24: Гольф площадка (по расписанию)
A25: Доп.место завтрак | G25: Пользование услугами электрокара по территории санатория
A26: 28.09.2026-29.12.2026 | G26: Паркинг для легковых автомобилей (при наличии свободных мест)
A27: Дети до 5 лет | D27: Бесплатно | G27: Бесплатный Wi-Fi
A28: Дети от 5 до 12 лет | D28: 2000
A29: Дети с 12 лет и взрослые | D29: 3000

Sheet НВ
H1: обед, чел | I1: 1 | J1: 2
H2: 12 + | I2: 1500 | J2: 3000
A3: Тариф акционный "Сезонное предложение" на услуги временного проживания с питанием завтрак, ужин (полупансион) на 2026 год | G3: Акционный тариф | H3: 5-12 л | I3: 450
G4: Период проживания с 28.09.2026 до 29.12.2026
A5: 28.09.2026-29.12.2026 | G5: Период бронирования до 29.12.2026.
C6: БУДНИ ВС-ЧТ | E6: ВЫХОДНЫЕ ПТ-СБ | G6: При бронировании необходимо внести 100% оплату.
A7: Категория номера | C7: 1 гость | D7: 2 гостя | E7: 1 гость | F7: 2 гостя | G7: В стоимость тарифа включено:
G8: Проживание с питанием завтрак, ужин.
A9: СИНГЛ | C9: ='ВВ '!C9+НВ!$I$2 -> 9500 | E9: ='ВВ '!E9+НВ!$I$2 -> 9500 | G9: Бесплатные услуги:
A10: Дабл+ | B10: 15100 | C10: ='ВВ '!C10+НВ!$I$2 -> 10600 | D10: ='ВВ '!D10+НВ!J$2 -> 13100 | E10: ='ВВ '!E10+НВ!$I$2 -> 12300 | F10: ='ВВ '!F10+НВ!J$2 -> 14800 | G10: Первичный прием терапевта (педиатра)
A11: Твин | B11: 16200 | C11: ='ВВ '!C11+НВ!$I$2 -> 11750 | D11: ='ВВ '!D11+НВ!J$2 -> 14250 | E11: ='ВВ '!E11+НВ!$I$2 -> 13000 | F11: ='ВВ '!F11+НВ!J$2 -> 15500 | G11: Кислородный коктейль
A12: СТУДИО | B12: 17300 | C12: ='ВВ '!C12+НВ!$I$2 -> 12500 | D12: ='ВВ '!D12+НВ!J$2 -> 15000 | E12: ='ВВ '!E12+НВ!$I$2 -> 14900 | F12: ='ВВ '!F12+НВ!J$2 -> 17400 | G12: Пользование открытым и крытым бассейнами (крытый бассейн с морской водой)
A13: СТУДИО НЬЮ | B13: 17300 | C13: ='ВВ '!C13+НВ!$I$2 -> 12500 | D13: ='ВВ '!D13+НВ!J$2 -> 15000 | E13: ='ВВ '!E13+НВ!$I$2 -> 14900 | F13: ='ВВ '!F13+НВ!J$2 -> 17400 | G13: Посещение банного комплекса (4 вида бань и джакузи)
A14: ДЕЛЮКС НЬЮ | B14: 17300 | C14: ='ВВ '!C14+НВ!$I$2 -> 12500 | D14: ='ВВ '!D14+НВ!J$2 -> 15000 | E14: ='ВВ '!E14+НВ!$I$2 -> 14900 | F14: ='ВВ '!F14+НВ!J$2 -> 17400 | G14: Групповая тренировка по теннису для взрослых: суббота (по предварительной записи)
A15: СЬЮТ2 | B15: 19600 | C15: ='ВВ '!C15+НВ!$I$2 -> 15000 | D15: ='ВВ '!D15+НВ!J$2 -> 17500 | E15: ='ВВ '!E15+НВ!$I$2 -> 16500 | F15: ='ВВ '!F15+НВ!J$2 -> 19000 | G15: Групповая тренировка по теннису для детей: пятница, суббота (по предварительной записи)
A16: СЬЮТ 2 НЬЮ | B16: 20600 | C16: ='ВВ '!C16+НВ!$I$2 -> 16500 | D16: ='ВВ '!D16+НВ!J$2 -> 19000 | E16: ='ВВ '!E16+НВ!$I$2 -> 19000 | F16: ='ВВ '!F16+НВ!J$2 -> 21500 | G16: Тренировки с тренером: йога, скандинавская ходьба, фитнес-йога, аквазумба, аквааэробика,
A17: СЕНЬЙОР СЬЮТ | B17: 20600 | C17: ='ВВ '!C17+НВ!$I$2 -> 16500 | D17: ='ВВ '!D17+НВ!J$2 -> 19000 | E17: ='ВВ '!E17+НВ!$I$2 -> 19000 | F17: ='ВВ '!F17+НВ!J$2 -> 21500 | G17: функциональная тренировка, кардио, пилатес, дыхательная гимнастика (по расписанию)
A18: СЬЮТ 3 | B18: 25000 | C18: ='ВВ '!C18+НВ!$I$2 -> 21400 | D18: ='ВВ '!D18+НВ!J$2 -> 23900 | E18: ='ВВ '!E18+НВ!$I$2 -> 22500 | F18: ='ВВ '!F18+НВ!J$2 -> 25000 | G18: Анимационная программа для детей и взрослых
A19: СЬЮТ 3НЬЮ | B19: 30600 | C19: ='ВВ '!C19+НВ!$I$2 -> 23400 | D19: ='ВВ '!D19+НВ!J$2 -> 25900 | E19: ='ВВ '!E19+НВ!$I$2 -> 24000 | F19: ='ВВ '!F19+НВ!J$2 -> 26500 | G19: Тренажерный и спортивный залы
A20: Экзикьютив СЬЮТ | B20: 30600 | C20: ='ВВ '!C20+НВ!$I$2 -> 23400 | D20: ='ВВ '!D20+НВ!J$2 -> 25900 | E20: ='ВВ '!E20+НВ!$I$2 -> 24000 | F20: ='ВВ '!F20+НВ!J$2 -> 26500 | G20: Настольный теннис
A21: ФЕМЕЛИ СЬЮТ | B21: 30600 | C21: ='ВВ '!C21+НВ!$I$2 -> 23400 | D21: ='ВВ '!D21+НВ!J$2 -> 25900 | E21: ='ВВ '!E21+НВ!$I$2 -> 24000 | F21: ='ВВ '!F21+НВ!J$2 -> 26500 | G21: Детский клуб для детей от 3 до 11 лет
G22: Подростковый клуб
G23: Детская площадка
A24: Стоимость дополнительных мест | G24: Гольф площадка (по расписанию)
A25: Доп.место завтрак, ужин (полупансион) | G25: Пользование услугами электрокара по территории санатория
A26: 28.09.2026-29.12.2026 | G26: Паркинг для легковых автомобилей (при наличии свободных мест)
A27: Дети до 5 лет | D27: Бесплатно | G27: Бесплатный Wi-Fi
A28: Дети от 5 до 12 лет | D28: ='ВВ '!D28+I3 -> 2450
A29: Дети с 12 лет и взрослые | D29: ='ВВ '!D29+НВ!I2 -> 4500

Sheet FB
H1: обед+ ужин, чел | I1: 1 | J1: 2
H2: 12 + | I2: 3000 | J2: 6000
A3: Тариф акционный "Сезонное предложение" на услуги временного проживания с питанием завтрак, обед ужин (полны пансион) на 2026 год | G3: Акционный тариф | H3: 5-12 л | I3: 1200
G4: Период проживания с 28.09.2026 до 29.12.2026
A5: 28.09.2026-29.12.2026 | G5: Период бронирования до 29.12.2026.
C6: БУДНИ ВС-ЧТ | E6: ВЫХОДНЫЕ ПТ-СБ | G6: При бронировании необходимо внести 100% оплату.
A7: Категория номера | C7: 1 гость | D7: 2 гостя | E7: 1 гость | F7: 2 гостя | G7: В стоимость тарифа включено:
G8: Проживание с питанием завтрак, обед, ужин.
A9: СИНГЛ | C9: ='ВВ '!C9+FB!$I$2 -> 11000 | E9: ='ВВ '!E9+FB!$I$2 -> 11000 | G9: Бесплатные услуги:
A10: Дабл+ | B10: 15100 | C10: ='ВВ '!C10+FB!$I$2 -> 12100 | D10: ='ВВ '!D10+FB!$J$2 -> 16100 | E10: ='ВВ '!E10+FB!$I$2 -> 13800 | F10: ='ВВ '!F10+FB!$J$2 -> 17800 | G10: Первичный прием терапевта (педиатра)
A11: Твин | B11: 16200 | C11: ='ВВ '!C11+FB!$I$2 -> 13250 | D11: ='ВВ '!D11+FB!$J$2 -> 17250 | E11: ='ВВ '!E11+FB!$I$2 -> 14500 | F11: ='ВВ '!F11+FB!$J$2 -> 18500 | G11: Кислородный коктейль
A12: СТУДИО | B12: 17300 | C12: ='ВВ '!C12+FB!$I$2 -> 14000 | D12: ='ВВ '!D12+FB!$J$2 -> 18000 | E12: ='ВВ '!E12+FB!$I$2 -> 16400 | F12: ='ВВ '!F12+FB!$J$2 -> 20400 | G12: Пользование открытым и крытым бассейнами (крытый бассейн с морской водой)
A13: СТУДИО НЬЮ | B13: 17300 | C13: ='ВВ '!C13+FB!$I$2 -> 14000 | D13: ='ВВ '!D13+FB!$J$2 -> 18000 | E13: ='ВВ '!E13+FB!$I$2 -> 16400 | F13: ='ВВ '!F13+FB!$J$2 -> 20400 | G13: Посещение банного комплекса (4 вида бань и джакузи)
A14: ДЕЛЮКС НЬЮ | B14: 17300 | C14: ='ВВ '!C14+FB!$I$2 -> 14000 | D14: ='ВВ '!D14+FB!$J$2 -> 18000 | E14: ='ВВ '!E14+FB!$I$2 -> 16400 | F14: ='ВВ '!F14+FB!$J$2 -> 20400 | G14: Групповая тренировка по теннису для взрослых: суббота (по предварительной записи)
A15: СЬЮТ2 | B15: 19600 | C15: ='ВВ '!C15+FB!$I$2 -> 16500 | D15: ='ВВ '!D15+FB!$J$2 -> 20500 | E15: ='ВВ '!E15+FB!$I$2 -> 18000 | F15: ='ВВ '!F15+FB!$J$2 -> 22000 | G15: Групповая тренировка по теннису для детей: пятница, суббота (по предварительной записи)
A16: СЬЮТ 2 НЬЮ | B16: 20600 | C16: ='ВВ '!C16+FB!$I$2 -> 18000 | D16: ='ВВ '!D16+FB!$J$2 -> 22000 | E16: ='ВВ '!E16+FB!$I$2 -> 20500 | F16: ='ВВ '!F16+FB!$J$2 -> 24500 | G16: Тренировки с тренером: йога, скандинавская ходьба, фитнес-йога, аквазумба, аквааэробика,
A17: СЕНЬЙОР СЬЮТ | B17: 20600 | C17: ='ВВ '!C17+FB!$I$2 -> 18000 | D17: ='ВВ '!D17+FB!$J$2 -> 22000 | E17: ='ВВ '!E17+FB!$I$2 -> 20500 | F17: ='ВВ '!F17+FB!$J$2 -> 24500 | G17: функциональная тренировка, кардио, пилатес, дыхательная гимнастика (по расписанию)
A18: СЬЮТ 3 | B18: 25000 | C18: ='ВВ '!C18+FB!$I$2 -> 22900 | D18: ='ВВ '!D18+FB!$J$2 -> 26900 | E18: ='ВВ '!E18+FB!$I$2 -> 24000 | F18: ='ВВ '!F18+FB!$J$2 -> 28000 | G18: Анимационная программа для детей и взрослых
A19: СЬЮТ 3НЬЮ | B19: 30600 | C19: ='ВВ '!C19+FB!$I$2 -> 24900 | D19: ='ВВ '!D19+FB!$J$2 -> 28900 | E19: ='ВВ '!E19+FB!$I$2 -> 25500 | F19: ='ВВ '!F19+FB!$J$2 -> 29500 | G19: Тренажерный и спортивный залы
A20: Экзикьютив СЬЮТ | B20: 30600 | C20: ='ВВ '!C20+FB!$I$2 -> 24900 | D20: ='ВВ '!D20+FB!$J$2 -> 28900 | E20: ='ВВ '!E20+FB!$I$2 -> 25500 | F20: ='ВВ '!F20+FB!$J$2 -> 29500 | G20: Настольный теннис
A21: ФЕМЕЛИ СЬЮТ | B21: 30600 | C21: ='ВВ '!C21+FB!$I$2 -> 24900 | D21: ='ВВ '!D21+FB!$J$2 -> 28900 | E21: ='ВВ '!E21+FB!$I$2 -> 25500 | F21: ='ВВ '!F21+FB!$J$2 -> 29500 | G21: Детский клуб для детей от 3 до 11 лет
G22: Подростковый клуб
G23: Детская площадка
A24: Стоимость дополнительных мест | G24: Гольф площадка (по расписанию)
A25: Доп.место с питанием завтрак, обед, ужин (полный пансион) | G25: Пользование услугами электрокара по территории санатория
A26: 28.09.2026-29.12.2026 | G26: Паркинг для легковых автомобилей (при наличии свободных мест)
A27: Дети до 5 лет | D27: Бесплатно | G27: Бесплатный Wi-Fi
A28: Дети от 5 до 12 лет | D28: ='ВВ '!D28+I3 -> 3200
A29: Дети с 12 лет и взрослые | D29: ='ВВ '!D29+FB!I2 -> 6000
