Workbook

Sheet ВВ 
A2: Приложение №1 к служебной записке от 21.09.2026
A4: Тариф акционный "Осенние каникулы" на услуги временного проживания с питанием завтрак на 2026 год | H4: Акционный тариф
A5: 22.10.2026-08.11.2026 | H5: Период проживания 22.10.2026 - 08.11.2026 (включительно)
A6: Категория номера | C6: 1 гость | D6: 1+1 реб до 12л. | E6: 2 гостя | F6: 2 взр + 1 реб до 12л. | G6: 2 взр + 1 реб до 12л. + от 12л. | H6: Период бронирования до 06.11.2026.
H7: Проживание по тарифу доступно от 2-х ночей
A8: СИНГЛ | C8: 8000 | H8: При бронировании необходимо внести 100% оплату.
A9: Дабл+ | B9: 15100 | C9: 9900 | D9: 9900 | E9: 10900 | F9: =E9 -> 10900 | H9: Размещение детей до 11 лет (включительно) на дополнительном месте бесплатно. Услуга доступна для 1 ребенка в одном номере.
A10: Твин | B10: 16200 | C10: 10500 | D10: 10500 | E10: 11500 | F10: =E10 -> 11500 | H10: При бронировании по телефону, доступен выгодный тариф на проживание 1 взрослый + 1 ребенок до 11 лет (включительно).
A11: СТУДИО | B11: 17300 | C11: 12500 | D11: 12500 | E11: 13500 | F11: =E11 -> 13500 | G11: =F11+$D$29 -> 16500 | H11: В стоимость тарифа включено:
A12: СТУДИО НЬЮ | B12: 17300 | C12: 12500 | D12: 12500 | E12: 13500 | F12: =E12 -> 13500 | G12: =F12+$D$29 -> 16500 | H12: Проживание с питанием завтрак по системе "шведский стол"
A13: ДЕЛЮКС НЬЮ | B13: 17300 | C13: 12500 | D13: 12500 | E13: 13500 | F13: =E13 -> 13500 | G13: =F13+$D$29 -> 16500 | H13: Бесплатные услуги:
A14: СЬЮТ2 | B14: 19600 | C14: 13500 | D14: 13500 | E14: 14500 | F14: =E14 -> 14500 | G14: =F14+$D$29 -> 17500 | H14: Первичный прием терапевта (педиатра)
A15: СЬЮТ 2 НЬЮ | B15: 20600 | C15: 14000 | D15: 14000 | E15: 15000 | F15: =E15 -> 15000 | G15: =F15+$D$29 -> 18000 | H15: Кислородный коктейль
A16: СЕНЬЙОР СЬЮТ | B16: 20600 | C16: 17500 | D16: 17500 | E16: 18500 | F16: =E16 -> 18500 | G16: =F16+$D$29 -> 21500 | H16: Пользование открытым и крытым бассейнами (крытый бассейн с морской водой)
A17: СЬЮТ 3 | B17: 25000 | C17: 21900 | D17: 21900 | E17: 22900 | F17: =E17 -> 22900 | G17: =F17+$D$29 -> 25900 | H17: Посещение банного комплекса (4 вида бань и джакузи)
A18: СЬЮТ 3НЬЮ | B18: 30600 | C18: 22300 | D18: 22300 | E18: 23300 | F18: =E18 -> 23300 | G18: =F18+$D$29 -> 26300 | H18: Групповая тренировка по теннису для взрослых: суббота (по предварительной записи)
A19: Экзикьютив СЬЮТ | B19: 30600 | C19: 22300 | D19: 22300 | E19: 23300 | F19: =E19 -> 23300 | G19: =F19+$D$29 -> 26300 | H19: Групповая тренировка по теннису для детей: пятница, суббота (по предварительной записи)
A20: ФЕМЕЛИ СЬЮТ | B20: 30600 | C20: 22300 | D20: 22300 | E20: 23300 | F20: =E20 -> 23300 | G20: =F20+$D$29 -> 26300 | H20: Тренировки с тренером: йога, скандинавская ходьба, фитнес-йога, аквазумба, аквааэробика,
H21: функциональная тренировка, кардио, пилатес, дыхательная гимнастика (по расписанию)
H22: Анимационная программа для детей и взрослых
A23: Стоимость дополнительных мест | H23: Тренажерный и спортивный залы
A24: Доп.место завтрак | H24: Настольный теннис
A25: 22.10.2026-08.11.2026 | H25: Детский клуб для детей от 3 до 11 лет
A26: Дети до 5 лет | D26: Бесплатно | H26: Подростковый клуб
A27: Дети т 5 до 12 лет, 1 гость в номере | D27: Бесплатно | H27: Детская площадка
A28: Дети от 5 до 12 лет, 2 гость в номере | D28: 3000 | H28: Гольф площадка ( по расписанию)
A29: Дети с 12 лет и взрослые | D29: 3000 | H29: Пользование услугами электрокара по территории санатория
H30: Паркинг для легковых автомобилей (при наличии свободных мест)
A31: Условия тарифа: | H31: Бесплатный Wi-Fi
A32: бронирование от 2-х ночей
A33: Размещение детей до 12 лет на дополнительном месте бесплатно, не более 1 человека в номере в этой возрастой категории.

Sheet HB
I2: обед, чел | J2: 1 | K2: 2
I3: 12 + | J3: 1500 | K3: 3000
A4: Тариф акционный "Осенние каникулы" на услуги временного проживания с питанием завтрак, ужин (полупансион) на 2026 год | H4: Акционный тариф | I4: 5-12 л | J4: 450
A5: 22.10.2026-08.11.2026 | H5: Период проживания 22.10.2026 - 08.11.2026 (включительно)
A6: Категория номера | C6: 1 гость | D6: 1+1 реб до 12л. | E6: 2 гостя | F6: 2 взр + 1 реб до 12л. | G6: 2 взр + 1 реб до 12л. + от 12л. | H6: Период бронирования до 06.11.2026.
H7: Проживание по тарифу доступно от 2-х ночей
A8: СИНГЛ | C8: ='ВВ '!C8+HB!J$3 -> 9500 | H8: При бронировании необходимо внести 100% оплату.
A9: Дабл+ | B9: 15100 | C9: 11850 | D9: ='ВВ '!D9+$J$3+$J$4 -> 11850 | E9: ='ВВ '!E9+HB!$K$3 -> 13900 | F9: ='ВВ '!F9+HB!$K$3 -> 13900 | H9: Размещение детей до 11 лет (включительно) на дополнительном месте бесплатно. Услуга доступна для 1 ребенка в одном номере.
A10: Твин | B10: 16200 | C10: 12450 | D10: ='ВВ '!D10+$J$3+$J$4 -> 12450 | E10: ='ВВ '!E10+HB!$K$3 -> 14500 | F10: ='ВВ '!F10+HB!$K$3 -> 14500 | H10: При бронировании по телефону, доступен выгодный тариф на проживание 1 взрослый + 1 ребенок до 11 лет (включительно).
A11: СТУДИО | B11: 17300 | C11: 14450 | D11: ='ВВ '!D11+$J$3+$J$4 -> 14450 | E11: ='ВВ '!E11+HB!$K$3 -> 16500 | F11: ='ВВ '!F11+HB!$K$3 -> 16500 | G11: ='ВВ '!G11+HB!$K$3+$J$3 -> 21000 | H11: В стоимость тарифа включено:
A12: СТУДИО НЬЮ | B12: 17300 | C12: 14450 | D12: ='ВВ '!D12+$J$3+$J$4 -> 14450 | E12: ='ВВ '!E12+HB!$K$3 -> 16500 | F12: ='ВВ '!F12+HB!$K$3 -> 16500 | G12: ='ВВ '!G12+HB!$K$3+$J$3 -> 21000 | H12: Проживание с питанием завтрак, ужин.
A13: ДЕЛЮКС НЬЮ | B13: 17300 | C13: 14450 | D13: ='ВВ '!D13+$J$3+$J$4 -> 14450 | E13: ='ВВ '!E13+HB!$K$3 -> 16500 | F13: ='ВВ '!F13+HB!$K$3 -> 16500 | G13: ='ВВ '!G13+HB!$K$3+$J$3 -> 21000 | H13: Бесплатные услуги:
A14: СЬЮТ2 | B14: 19600 | C14: 15450 | D14: ='ВВ '!D14+$J$3+$J$4 -> 15450 | E14: ='ВВ '!E14+HB!$K$3 -> 17500 | F14: ='ВВ '!F14+HB!$K$3 -> 17500 | G14: ='ВВ '!G14+HB!$K$3+$J$3 -> 22000 | H14: Первичный прием терапевта (педиатра)
A15: СЬЮТ 2 НЬЮ | B15: 20600 | C15: 15950 | D15: ='ВВ '!D15+$J$3+$J$4 -> 15950 | E15: ='ВВ '!E15+HB!$K$3 -> 18000 | F15: ='ВВ '!F15+HB!$K$3 -> 18000 | G15: ='ВВ '!G15+HB!$K$3+$J$3 -> 22500 | H15: Кислородный коктейль
A16: СЕНЬЙОР СЬЮТ | B16: 20600 | C16: 19450 | D16: ='ВВ '!D16+$J$3+$J$4 -> 19450 | E16: ='ВВ '!E16+HB!$K$3 -> 21500 | F16: ='ВВ '!F16+HB!$K$3 -> 21500 | G16: ='ВВ '!G16+HB!$K$3+$J$3 -> 26000 | H16: Пользование открытым и крытым бассейнами (крытый бассейн с морской водой)
A17: СЬЮТ 3 | B17: 25000 | C17: 23850 | D17: ='ВВ '!D17+$J$3+$J$4 -> 23850 | E17: ='ВВ '!E17+HB!$K$3 -> 25900 | F17: ='ВВ '!F17+HB!$K$3 -> 25900 | G17: ='ВВ '!G17+HB!$K$3+$J$3 -> 30400 | H17: Посещение банного комплекса (4 вида бань и джакузи)
A18: СЬЮТ 3НЬЮ | B18: 30600 | C18: 24250 | D18: ='ВВ '!D18+$J$3+$J$4 -> 24250 | E18: ='ВВ '!E18+HB!$K$3 -> 26300 | F18: ='ВВ '!F18+HB!$K$3 -> 26300 | G18: ='ВВ '!G18+HB!$K$3+$J$3 -> 30800 | H18: Групповая тренировка по теннису для взрослых: суббота (по предварительной записи)
A19: Экзикьютив СЬЮТ | B19: 30600 | C19: 24250 | D19: ='ВВ '!D19+$J$3+$J$4 -> 24250 | E19: ='ВВ '!E19+HB!$K$3 -> 26300 | F19: ='ВВ '!F19+HB!$K$3 -> 26300 | G19: ='ВВ '!G19+HB!$K$3+$J$3 -> 30800 | H19: Групповая тренировка по теннису для детей: пятница, суббота (по предварительной записи)
A20: ФЕМЕЛИ СЬЮТ | B20: 30600 | C20: 24250 | D20: ='ВВ '!D20+$J$3+$J$4 -> 24250 | E20: ='ВВ '!E20+HB!$K$3 -> 26300 | F20: ='ВВ '!F20+HB!$K$3 -> 26300 | G20: ='ВВ '!G20+HB!$K$3+$J$3 -> 30800 | H20: Тренировки с тренером: йога, скандинавская ходьба, фитнес-йога, аквазумба, аквааэробика,
H21: функциональная тренировка, кардио, пилатес, дыхательная гимнастика (по расписанию)
H22: Анимационная программа для детей и взрослых
A23: Стоимость дополнительных мест | H23: Тренажерный и спортивный залы
A24: Доп.место завтрак, ужин (полупансион) | H24: Настольный теннис
A25: 22.10.2026-08.11.2026 | H25: Детский клуб для детей от 3 до 11 лет
A26: Дети до 5 лет | D26: Бесплатно | H26: Подростковый клуб
A27: Дети т 5 до 12 лет, 1 гость в номере | D27: Бесплатно | H27: Детская площадка
A28: Дети от 5 до 12 лет, 2 гость в номере | D28: 4500 | H28: Гольф площадка ( по расписанию)
A29: Дети с 12 лет и взрослые | D29: ='ВВ '!D29+J3 -> 4500 | H29: Пользование услугами электрокара по территории санатория
H30: Паркинг для легковых автомобилей (при наличии свободных мест)
A31: Условия тарифа: | H31: Бесплатный Wi-Fi
A32: бронирование от 2-х ночей
A33: Размещение детей до 12 лет на дополнительном месте бесплатно, не более 1 человека в номере в этой возрастой категории.

Sheet FB
I2: обед+ ужин, чел | J2: 1 | K2: 2
I3: 12 + | J3: 3000 | K3: 6000
A4: Тариф акционный "Осенние каникулы" на услуги временного проживания с питанием завтрак, обед, ужин (полный пансион) на 2026 год | H4: Акционный тариф | I4: 5-12 л | J4: 1200
A5: 22.10.2026-08.11.2026 | H5: Период проживания 22.10.2026 - 08.11.2026 (включительно)
A6: Категория номера | C6: 1 гость | D6: 1+1 реб до 12л. | E6: 2 гостя | F6: 2 взр + 1 реб до 12л. | G6: 2 взр + 1 реб до 12л. + от 12л. | H6: Период бронирования до 06.11.2026.
H7: Проживание по тарифу доступно от 2-х ночей
A8: СИНГЛ | C8: ='ВВ '!C8+FB!J3 -> 11000 | H8: При бронировании необходимо внести 100% оплату.
A9: Дабл+ | B9: 15100 | C9: 14100 | D9: ='ВВ '!D9+FB!$J$3+FB!$J$4 -> 14100 | E9: ='ВВ '!E9+FB!$K$3 -> 16900 | F9: ='ВВ '!F9+FB!$K$3 -> 16900 | H9: Размещение детей до 11 лет (включительно) на дополнительном месте бесплатно. Услуга доступна для 1 ребенка в одном номере.
A10: Твин | B10: 16200 | C10: 14700 | D10: ='ВВ '!D10+FB!$J$3+FB!$J$4 -> 14700 | E10: ='ВВ '!E10+FB!$K$3 -> 17500 | F10: ='ВВ '!F10+FB!$K$3 -> 17500 | H10: При бронировании по телефону, доступен выгодный тариф на проживание 1 взрослый + 1 ребенок до 11 лет (включительно).
A11: СТУДИО | B11: 17300 | C11: 16700 | D11: ='ВВ '!D11+FB!$J$3+FB!$J$4 -> 16700 | E11: ='ВВ '!E11+FB!$K$3 -> 19500 | F11: ='ВВ '!F11+FB!$K$3 -> 19500 | G11: ='ВВ '!G11+FB!$K$3+FB!$J$3 -> 25500 | H11: В стоимость тарифа включено:
A12: СТУДИО НЬЮ | B12: 17300 | C12: 16700 | D12: ='ВВ '!D12+FB!$J$3+FB!$J$4 -> 16700 | E12: ='ВВ '!E12+FB!$K$3 -> 19500 | F12: ='ВВ '!F12+FB!$K$3 -> 19500 | G12: ='ВВ '!G12+FB!$K$3+FB!$J$3 -> 25500 | H12: Проживание с питанием завтрак, обед, ужин.
A13: ДЕЛЮКС НЬЮ | B13: 17300 | C13: 16700 | D13: ='ВВ '!D13+FB!$J$3+FB!$J$4 -> 16700 | E13: ='ВВ '!E13+FB!$K$3 -> 19500 | F13: ='ВВ '!F13+FB!$K$3 -> 19500 | G13: ='ВВ '!G13+FB!$K$3+FB!$J$3 -> 25500 | H13: Бесплатные услуги:
A14: СЬЮТ2 | B14: 19600 | C14: 17700 | D14: ='ВВ '!D14+FB!$J$3+FB!$J$4 -> 17700 | E14: ='ВВ '!E14+FB!$K$3 -> 20500 | F14: ='ВВ '!F14+FB!$K$3 -> 20500 | G14: ='ВВ '!G14+FB!$K$3+FB!$J$3 -> 26500 | H14: Первичный прием терапевта (педиатра)
A15: СЬЮТ 2 НЬЮ | B15: 20600 | C15: 18200 | D15: ='ВВ '!D15+FB!$J$3+FB!$J$4 -> 18200 | E15: ='ВВ '!E15+FB!$K$3 -> 21000 | F15: ='ВВ '!F15+FB!$K$3 -> 21000 | G15: ='ВВ '!G15+FB!$K$3+FB!$J$3 -> 27000 | H15: Кислородный коктейль
A16: СЕНЬЙОР СЬЮТ | B16: 20600 | C16: 21700 | D16: ='ВВ '!D16+FB!$J$3+FB!$J$4 -> 21700 | E16: ='ВВ '!E16+FB!$K$3 -> 24500 | F16: ='ВВ '!F16+FB!$K$3 -> 24500 | G16: ='ВВ '!G16+FB!$K$3+FB!$J$3 -> 30500 | H16: Пользование открытым и крытым бассейнами (крытый бассейн с морской водой)
A17: СЬЮТ 3 | B17: 25000 | C17: 26100 | D17: ='ВВ '!D17+FB!$J$3+FB!$J$4 -> 26100 | E17: ='ВВ '!E17+FB!$K$3 -> 28900 | F17: ='ВВ '!F17+FB!$K$3 -> 28900 | G17: ='ВВ '!G17+FB!$K$3+FB!$J$3 -> 34900 | H17: Посещение банного комплекса (4 вида бань и джакузи)
A18: СЬЮТ 3НЬЮ | B18: 30600 | C18: 26500 | D18: ='ВВ '!D18+FB!$J$3+FB!$J$4 -> 26500 | E18: ='ВВ '!E18+FB!$K$3 -> 29300 | F18: ='ВВ '!F18+FB!$K$3 -> 29300 | G18: ='ВВ '!G18+FB!$K$3+FB!$J$3 -> 35300 | H18: Групповая тренировка по теннису для взрослых: суббота (по предварительной записи)
A19: Экзикьютив СЬЮТ | B19: 30600 | C19: 26500 | D19: ='ВВ '!D19+FB!$J$3+FB!$J$4 -> 26500 | E19: ='ВВ '!E19+FB!$K$3 -> 29300 | F19: ='ВВ '!F19+FB!$K$3 -> 29300 | G19: ='ВВ '!G19+FB!$K$3+FB!$J$3 -> 35300 | H19: Групповая тренировка по теннису для детей: пятница, суббота (по предварительной записи)
A20: ФЕМЕЛИ СЬЮТ | B20: 30600 | C20: 26500 | D20: ='ВВ '!D20+FB!$J$3+FB!$J$4 -> 26500 | E20: ='ВВ '!E20+FB!$K$3 -> 29300 | F20: ='ВВ '!F20+FB!$K$3 -> 29300 | G20: ='ВВ '!G20+FB!$K$3+FB!$J$3 -> 35300 | H20: Тренировки с тренером: йога, скандинавская ходьба, фитнес-йога, аквазумба, аквааэробика,
H21: функциональная тренировка, кардио, пилатес, дыхательная гимнастика (по расписанию)
H22: Анимационная программа для детей и взрослых
A23: Стоимость дополнительных мест | H23: Тренажерный и спортивный залы
A24: Доп.место с питанием завтрак, обед, ужин (полный пансион) | H24: Настольный теннис
A25: 22.10.2026-08.11.2026 | H25: Детский клуб для детей от 3 до 11 лет
A26: Дети до 5 лет | D26: Бесплатно | H26: Подростковый клуб
A27: Дети т 5 до 12 лет, 1 гость в номере | D27: Бесплатно | H27: Детская площадка
A28: Дети от 5 до 12 лет, 2 гость в номере | D28: 6000 | H28: Гольф площадка ( по расписанию)
A29: Дети с 12 лет и взрослые | D29: ='ВВ '!D29+J3 -> 6000 | H29: Пользование услугами электрокара по территории санатория
H30: Паркинг для легковых автомобилей (при наличии свободных мест)
A31: Условия тарифа: | H31: Бесплатный Wi-Fi
A32: бронирование от 2-х ночей
A33: Размещение детей до 12 лет на дополнительном месте бесплатно, не более 1 человека в номере в этой возрастой категории.
